BEGIN:VCALENDAR
VERSION:2.0
PRODID:-//Waimea Country School - ECPv6.15.20//NONSGML v1.0//EN
CALSCALE:GREGORIAN
METHOD:PUBLISH
X-ORIGINAL-URL:https://waimeacountryschool.org
X-WR-CALDESC:Events for Waimea Country School
REFRESH-INTERVAL;VALUE=DURATION:PT1H
X-Robots-Tag:noindex
X-PUBLISHED-TTL:PT1H
BEGIN:VTIMEZONE
TZID:Pacific/Honolulu
BEGIN:STANDARD
TZOFFSETFROM:-1000
TZOFFSETTO:-1000
TZNAME:HST
DTSTART:20240101T000000
END:STANDARD
END:VTIMEZONE
BEGIN:VEVENT
DTSTART;VALUE=DATE:20250221
DTEND;VALUE=DATE:20250222
DTSTAMP:20260423T224247
CREATED:20230713T001352Z
LAST-MODIFIED:20241122T002021Z
UID:3521-1740096000-1740182399@waimeacountryschool.org
SUMMARY:Re-enrollment Contracts DUE
DESCRIPTION:Today is the deadline for current WCS families to submit contracts and deposits for the next school year. A signed contract and nonrefundable deposit are required to secure a child’s place in the next academic year.
URL:https://waimeacountryschool.org/event/re-enrollment-contracts-due/
LOCATION:Waimea Country School\, St. James Circle\, Kamuela\, 96743
ATTACH;FMTTYPE=image/jpeg:https://waimeacountryschool.org/wp-content/uploads/deadline.jpeg
END:VEVENT
END:VCALENDAR