BEGIN:VCALENDAR
VERSION:2.0
PRODID:-//Waimea Country School - ECPv6.15.20//NONSGML v1.0//EN
CALSCALE:GREGORIAN
METHOD:PUBLISH
X-WR-CALNAME:Waimea Country School
X-ORIGINAL-URL:https://waimeacountryschool.org
X-WR-CALDESC:Events for Waimea Country School
REFRESH-INTERVAL;VALUE=DURATION:PT1H
X-Robots-Tag:noindex
X-PUBLISHED-TTL:PT1H
BEGIN:VTIMEZONE
TZID:Pacific/Honolulu
BEGIN:STANDARD
TZOFFSETFROM:-1000
TZOFFSETTO:-1000
TZNAME:HST
DTSTART:20250101T000000
END:STANDARD
END:VTIMEZONE
BEGIN:VEVENT
DTSTART;VALUE=DATE:20260309
DTEND;VALUE=DATE:20260321
DTSTAMP:20260425T033334
CREATED:20200605T182007Z
LAST-MODIFIED:20250814T211532Z
UID:2904-1773014400-1774051199@waimeacountryschool.org
SUMMARY:Spring Break ~ No Classes; limited office hours
DESCRIPTION:
URL:https://waimeacountryschool.org/event/spring-break-no-classes-limited-office-hours/
LOCATION:Waimea Country School\, St. James Circle\, Kamuela\, 96743
CATEGORIES:Special Events
ATTACH;FMTTYPE=image/png:https://waimeacountryschool.org/wp-content/uploads/1581479.png
END:VEVENT
END:VCALENDAR