BEGIN:VCALENDAR
VERSION:2.0
PRODID:-//Waimea Country School - ECPv6.15.20//NONSGML v1.0//EN
CALSCALE:GREGORIAN
METHOD:PUBLISH
X-WR-CALNAME:Waimea Country School
X-ORIGINAL-URL:https://waimeacountryschool.org
X-WR-CALDESC:Events for Waimea Country School
REFRESH-INTERVAL;VALUE=DURATION:PT1H
X-Robots-Tag:noindex
X-PUBLISHED-TTL:PT1H
BEGIN:VTIMEZONE
TZID:Pacific/Honolulu
BEGIN:STANDARD
TZOFFSETFROM:-1000
TZOFFSETTO:-1000
TZNAME:HST
DTSTART:20220101T000000
END:STANDARD
END:VTIMEZONE
BEGIN:VEVENT
DTSTART;VALUE=DATE:20231031
DTEND;VALUE=DATE:20231101
DTSTAMP:20260423T224000
CREATED:20160801T230205Z
LAST-MODIFIED:20231024T195240Z
UID:1458-1698710400-1698796799@waimeacountryschool.org
SUMMARY:School Spirit Day & Parade ~ Halloween
DESCRIPTION:Come to school in costume\n\nNo costumes too scary or gory\, please\nNo prop weapons\nNo costume masks worn in class\n\n\nCostume Parade @ 8:20 am\n\nParents welcome to join in!\n\n\nBring a change of clothes (optional)\nPlease no candy in school\nIf your child brings in treats for classmates\, please be sure they are individually wrapped to hand out at dismissal
URL:https://waimeacountryschool.org/event/spirit-day-halloween/
LOCATION:Waimea Country School\, St. James Circle\, Kamuela\, 96743
CATEGORIES:Special Events
ATTACH;FMTTYPE=image/jpeg:https://waimeacountryschool.org/wp-content/uploads/halloween-1.jpeg
END:VEVENT
END:VCALENDAR