BEGIN:VCALENDAR
VERSION:2.0
PRODID:-//Waimea Country School - ECPv6.15.20//NONSGML v1.0//EN
CALSCALE:GREGORIAN
METHOD:PUBLISH
X-ORIGINAL-URL:https://waimeacountryschool.org
X-WR-CALDESC:Events for Waimea Country School
REFRESH-INTERVAL;VALUE=DURATION:PT1H
X-Robots-Tag:noindex
X-PUBLISHED-TTL:PT1H
BEGIN:VTIMEZONE
TZID:Pacific/Honolulu
BEGIN:STANDARD
TZOFFSETFROM:-1000
TZOFFSETTO:-1000
TZNAME:HST
DTSTART:20250101T000000
END:STANDARD
END:VTIMEZONE
BEGIN:VEVENT
DTSTART;VALUE=DATE:20260302
DTEND;VALUE=DATE:20260303
DTSTAMP:20260425T014704
CREATED:20230713T002439Z
LAST-MODIFIED:20250819T215324Z
UID:3524-1772409600-1772495999@waimeacountryschool.org
SUMMARY:Literacy Day ~ WCS Vocabulary Parade
DESCRIPTION:This day is devoted to literacy and is kicked off with an all-school Vocabulary Parade. Each student\, faculty\, and staff member chooses a vocabulary word to personify. Words are chosen with the direct support of each child’s teacher\, with plenty of advance notice for creating a costume. The Parade is held first thing in the morning\, with trying to guess each person’s word. Parents and siblings are invited to dress up!
URL:https://waimeacountryschool.org/event/vocabulary-parade/
CATEGORIES:Special Events
ATTACH;FMTTYPE=image/jpeg:https://waimeacountryschool.org/wp-content/uploads/featured_vocab-parade.jpeg
END:VEVENT
BEGIN:VEVENT
DTSTART;VALUE=DATE:20260306
DTEND;VALUE=DATE:20260307
DTSTAMP:20260425T014704
CREATED:20200605T182552Z
LAST-MODIFIED:20250814T031347Z
UID:2907-1772755200-1772841599@waimeacountryschool.org
SUMMARY:'Ohana Kupuna Day ~ Early Release
DESCRIPTION:Early release day\nWe invite our students’ grandparents\, extended families\, and special friends to join children in class for about an hour before lunch. Children and guests enjoy a brown bag lunch (this is NOT a potluck) before being dismissed for the day and for Spring Break.
URL:https://waimeacountryschool.org/event/ohana-kupuna-day-early-release/
CATEGORIES:Special Events
ATTACH;FMTTYPE=image/png:https://waimeacountryschool.org/wp-content/uploads/kupuna.png
END:VEVENT
BEGIN:VEVENT
DTSTART;VALUE=DATE:20260309
DTEND;VALUE=DATE:20260321
DTSTAMP:20260425T014704
CREATED:20200605T182007Z
LAST-MODIFIED:20250814T211532Z
UID:2904-1773014400-1774051199@waimeacountryschool.org
SUMMARY:Spring Break ~ No Classes; limited office hours
DESCRIPTION:
URL:https://waimeacountryschool.org/event/spring-break-no-classes-limited-office-hours/
LOCATION:Waimea Country School\, St. James Circle\, Kamuela\, 96743
CATEGORIES:Special Events
ATTACH;FMTTYPE=image/png:https://waimeacountryschool.org/wp-content/uploads/1581479.png
END:VEVENT
END:VCALENDAR